BEGIN:VCALENDAR
VERSION:2.0
PRODID:icalendar-ruby
CALSCALE:GREGORIAN
METHOD:PUBLISH
NAME:Ferien in Baden-Württemberg 2020
BEGIN:VEVENT
DTSTAMP:20260420T173550Z
UID:c904460b-d934-413a-8aea-480bc0d6db29
DTSTART;VALUE=DATE:20200406
DTEND;VALUE=DATE:20200419
DESCRIPTION:Osterferien 2020 in Baden-Württemberg - Importiert von Ferienw
 iki
SUMMARY:Osterferien
URL:https://www.ferienwiki.de/ferientermine/2020/de/osterferien
END:VEVENT
BEGIN:VEVENT
DTSTAMP:20260420T173550Z
UID:bd2dc0b5-3d8d-4238-838e-6e9aaea7ae64
DTSTART;VALUE=DATE:20200602
DTEND;VALUE=DATE:20200614
DESCRIPTION:Pfingstferien 2020 in Baden-Württemberg - Importiert von Ferie
 nwiki
SUMMARY:Pfingstferien
URL:https://www.ferienwiki.de/ferientermine/2020/de/pfingstferien
END:VEVENT
BEGIN:VEVENT
DTSTAMP:20260420T173550Z
UID:387ff221-0e4c-40ce-a1a0-6a378380e78d
DTSTART;VALUE=DATE:20200730
DTEND;VALUE=DATE:20200913
DESCRIPTION:Sommerferien 2020 in Baden-Württemberg - Importiert von Ferien
 wiki
SUMMARY:Sommerferien
URL:https://www.ferienwiki.de/ferientermine/2020/de/sommerferien
END:VEVENT
BEGIN:VEVENT
DTSTAMP:20260420T173550Z
UID:e9783ca6-a38f-4eb8-800b-78b5761edecf
DTSTART;VALUE=DATE:20201026
DTEND;VALUE=DATE:20201031
DESCRIPTION:Herbstferien 2020 in Baden-Württemberg - Importiert von Ferien
 wiki
SUMMARY:Herbstferien
URL:https://www.ferienwiki.de/ferientermine/2020/de/herbstferien
END:VEVENT
BEGIN:VEVENT
DTSTAMP:20260420T173550Z
UID:c9d7f0f3-f9a9-4753-88dc-5cb56c727219
DTSTART;VALUE=DATE:20201031
DTEND;VALUE=DATE:20201101
DESCRIPTION:Herbstferien 2020 in Baden-Württemberg - Importiert von Ferien
 wiki
SUMMARY:Herbstferien
URL:https://www.ferienwiki.de/ferientermine/2020/de/herbstferien
END:VEVENT
BEGIN:VEVENT
DTSTAMP:20260420T173550Z
UID:efda9c66-65b9-48fd-9621-31957fdc08e7
DTSTART;VALUE=DATE:20201223
DTEND;VALUE=DATE:20210110
DESCRIPTION:Weihnachtsferien 2020 in Baden-Württemberg - Importiert von Fe
 rienwiki
SUMMARY:Weihnachtsferien
URL:https://www.ferienwiki.de/ferientermine/2020/de/weihnachtsferien
END:VEVENT
END:VCALENDAR
